BEGIN:VCALENDAR
VERSION:2.0
PRODID:-//eventon.com NONSGML v1.0//EN
CALSCALE:GREGORIAN
METHOD:PUBLISH
BEGIN:VEVENT
UID:69e8720e36ef9
DTSTAMP:20260422T070030Z
DTSTART:20260504
DTEND:20260505
LOCATION:
SUMMARY:May Day Bank Holiday
DESCRIPTION:May Day Bank Holiday\nhttps://www.yateleyschool.net/events/may-
 day-bank-holiday/
URL:https://www.yateleyschool.net/events/may-day-bank-holiday/
END:VEVENT
END:VCALENDAR